BEGIN:VCALENDAR
VERSION:2.0
PRODID:-//Peekabear - ECPv6.0.0.1//NONSGML v1.0//EN
CALSCALE:GREGORIAN
METHOD:PUBLISH
X-WR-CALNAME:Peekabear
X-ORIGINAL-URL:https://thepeekabear.com
X-WR-CALDESC:Events for Peekabear
REFRESH-INTERVAL;VALUE=DURATION:PT1H
X-Robots-Tag:noindex
X-PUBLISHED-TTL:PT1H
BEGIN:VTIMEZONE
TZID:UTC
BEGIN:STANDARD
TZOFFSETFROM:+0000
TZOFFSETTO:+0000
TZNAME:UTC
DTSTART:20220101T000000
END:STANDARD
END:VTIMEZONE
BEGIN:VEVENT
DTSTART;VALUE=DATE:20220727
DTEND;VALUE=DATE:20220728
DTSTAMP:20260419T190340
CREATED:20220727T120823Z
LAST-MODIFIED:20220901T091452Z
UID:9434-1658880000-1658966399@thepeekabear.com
SUMMARY:HALF MOON WALL
DESCRIPTION:DUMMY
URL:https://thepeekabear.com/event/half-moon-wall/
CATEGORIES:Half Moon Wall
ATTACH;FMTTYPE=image/jpeg:https://thepeekabear.com/wp-content/uploads/2022/07/WhatsApp-Image-2022-09-01-at-12.47.14-PM.jpeg
END:VEVENT
END:VCALENDAR